Workbook

Sheet TABELA COM REAJUSTE_JAN 2026
A1: LEI Nº. 9.923 DE 25 DE MARÇO DE 2026 Anexo II – Fls. 01/02
A8: TABELA DE VENCIMENTOS DO QUADRO DE SERVIDORES EFETIVOS DO TCE/SE
A9: PARTE PERMANENTE
A10: Grupo Ocupacional | B10: Controle Externo | G10: Apoio Técnico e Administrativo
A11: Referências | B11: Auditor de Controle Externo I - Área de Auditoria Governament al | C11: Auditor de Controle Externo I - Área de Engenharia | D11: Auditor de Controle Externo II - Área de Auditoria Governamental | E11: Auditor de Controle Externo II - Área de Engenharia | F11: Auditor de Tecnologia da Informação | G11: Técnico Administrativo | H11: Enfermeiro | I11: Cirurgião- Dentista | J11: Médico
A12: 1 | B12: ='TABELA COM REAJUSTE_OUT 2025'!B12*6%+'TABELA COM REAJUSTE_OUT 2025'!B12 -> 6389.4069 | C12: ='TABELA COM REAJUSTE_OUT 2025'!C12*6%+'TABELA COM REAJUSTE_OUT 2025'!C12 -> 6389.4069 | D12: ='TABELA COM REAJUSTE_OUT 2025'!D12*6%+'TABELA COM REAJUSTE_OUT 2025'!D12 -> 7667.3037 | E12: ='TABELA COM REAJUSTE_OUT 2025'!E12*6%+'TABELA COM REAJUSTE_OUT 2025'!E12 -> 7667.3037 | F12: ='TABELA COM REAJUSTE_OUT 2025'!F12*6%+'TABELA COM REAJUSTE_OUT 2025'!F12 -> 7667.3037 | G12: ='TABELA COM REAJUSTE_OUT 2025'!G12*6%+'TABELA COM REAJUSTE_OUT 2025'!G12 -> 4139.8201 | H12: ='TABELA COM REAJUSTE_OUT 2025'!H12*6%+'TABELA COM REAJUSTE_OUT 2025'!H12 -> 6389.4069 | I12: ='TABELA COM REAJUSTE_OUT 2025'!J12*6%+'TABELA COM REAJUSTE_OUT 2025'!J12 -> 7667.3037 | J12: ='TABELA COM REAJUSTE_OUT 2025'!K12*6%+'TABELA COM REAJUSTE_OUT 2025'!K12 -> 7667.3037
A13: 2 | B13: ='TABELA COM REAJUSTE_OUT 2025'!B13*6%+'TABELA COM REAJUSTE_OUT 2025'!B13 -> 6772.767 | C13: ='TABELA COM REAJUSTE_OUT 2025'!C13*6%+'TABELA COM REAJUSTE_OUT 2025'!C13 -> 6772.767 | D13: ='TABELA COM REAJUSTE_OUT 2025'!D13*6%+'TABELA COM REAJUSTE_OUT 2025'!D13 -> 8127.3419 | E13: ='TABELA COM REAJUSTE_OUT 2025'!E13*6%+'TABELA COM REAJUSTE_OUT 2025'!E13 -> 8127.3419 | F13: ='TABELA COM REAJUSTE_OUT 2025'!F13*6%+'TABELA COM REAJUSTE_OUT 2025'!F13 -> 8127.3419 | G13: ='TABELA COM REAJUSTE_OUT 2025'!G13*6%+'TABELA COM REAJUSTE_OUT 2025'!G13 -> 4388.2093 | H13: ='TABELA COM REAJUSTE_OUT 2025'!H13*6%+'TABELA COM REAJUSTE_OUT 2025'!H13 -> 6772.7713 | I13: ='TABELA COM REAJUSTE_OUT 2025'!J13*6%+'TABELA COM REAJUSTE_OUT 2025'!J13 -> 8127.3419 | J13: ='TABELA COM REAJUSTE_OUT 2025'!K13*6%+'TABELA COM REAJUSTE_OUT 2025'!K13 -> 8127.3419
A14: 3 | B14: ='TABELA COM REAJUSTE_OUT 2025'!B14*6%+'TABELA COM REAJUSTE_OUT 2025'!B14 -> 7179.1348 | C14: ='TABELA COM REAJUSTE_OUT 2025'!C14*6%+'TABELA COM REAJUSTE_OUT 2025'!C14 -> 7179.1348 | D14: ='TABELA COM REAJUSTE_OUT 2025'!D14*6%+'TABELA COM REAJUSTE_OUT 2025'!D14 -> 8614.9824 | E14: ='TABELA COM REAJUSTE_OUT 2025'!E14*6%+'TABELA COM REAJUSTE_OUT 2025'!E14 -> 8614.9824 | F14: ='TABELA COM REAJUSTE_OUT 2025'!F14*6%+'TABELA COM REAJUSTE_OUT 2025'!F14 -> 8614.9824 | G14: ='TABELA COM REAJUSTE_OUT 2025'!G14*6%+'TABELA COM REAJUSTE_OUT 2025'!G14 -> 4651.5018 | H14: ='TABELA COM REAJUSTE_OUT 2025'!H14*6%+'TABELA COM REAJUSTE_OUT 2025'!H14 -> 7179.1376 | I14: ='TABELA COM REAJUSTE_OUT 2025'!J14*6%+'TABELA COM REAJUSTE_OUT 2025'!J14 -> 8614.9824 | J14: ='TABELA COM REAJUSTE_OUT 2025'!K14*6%+'TABELA COM REAJUSTE_OUT 2025'!K14 -> 8614.9824
A15: 4 | B15: ='TABELA COM REAJUSTE_OUT 2025'!B15*6%+'TABELA COM REAJUSTE_OUT 2025'!B15 -> 7609.8803 | C15: ='TABELA COM REAJUSTE_OUT 2025'!C15*6%+'TABELA COM REAJUSTE_OUT 2025'!C15 -> 7609.8803 | D15: ='TABELA COM REAJUSTE_OUT 2025'!D15*6%+'TABELA COM REAJUSTE_OUT 2025'!D15 -> 9131.8813 | E15: ='TABELA COM REAJUSTE_OUT 2025'!E15*6%+'TABELA COM REAJUSTE_OUT 2025'!E15 -> 9131.8813 | F15: ='TABELA COM REAJUSTE_OUT 2025'!F15*6%+'TABELA COM REAJUSTE_OUT 2025'!F15 -> 9131.8813 | G15: ='TABELA COM REAJUSTE_OUT 2025'!G15*6%+'TABELA COM REAJUSTE_OUT 2025'!G15 -> 4930.5919 | H15: ='TABELA COM REAJUSTE_OUT 2025'!H15*6%+'TABELA COM REAJUSTE_OUT 2025'!H15 -> 7609.8859 | I15: ='TABELA COM REAJUSTE_OUT 2025'!J15*6%+'TABELA COM REAJUSTE_OUT 2025'!J15 -> 9131.8813 | J15: ='TABELA COM REAJUSTE_OUT 2025'!K15*6%+'TABELA COM REAJUSTE_OUT 2025'!K15 -> 9131.8813
A16: 5 | B16: ='TABELA COM REAJUSTE_OUT 2025'!B16*6%+'TABELA COM REAJUSTE_OUT 2025'!B16 -> 8066.4759 | C16: ='TABELA COM REAJUSTE_OUT 2025'!C16*6%+'TABELA COM REAJUSTE_OUT 2025'!C16 -> 8066.4759 | D16: ='TABELA COM REAJUSTE_OUT 2025'!D16*6%+'TABELA COM REAJUSTE_OUT 2025'!D16 -> 9679.7942 | E16: ='TABELA COM REAJUSTE_OUT 2025'!E16*6%+'TABELA COM REAJUSTE_OUT 2025'!E16 -> 9679.7942 | F16: ='TABELA COM REAJUSTE_OUT 2025'!F16*6%+'TABELA COM REAJUSTE_OUT 2025'!F16 -> 9679.7942 | G16: ='TABELA COM REAJUSTE_OUT 2025'!G16*6%+'TABELA COM REAJUSTE_OUT 2025'!G16 -> 5226.4274 | H16: ='TABELA COM REAJUSTE_OUT 2025'!H16*6%+'TABELA COM REAJUSTE_OUT 2025'!H16 -> 8066.479 | I16: ='TABELA COM REAJUSTE_OUT 2025'!J16*6%+'TABELA COM REAJUSTE_OUT 2025'!J16 -> 9679.7942 | J16: ='TABELA COM REAJUSTE_OUT 2025'!K16*6%+'TABELA COM REAJUSTE_OUT 2025'!K16 -> 9679.7942
A17: 6 | B17: ='TABELA COM REAJUSTE_OUT 2025'!B17*6%+'TABELA COM REAJUSTE_OUT 2025'!B17 -> 8550.4709 | C17: ='TABELA COM REAJUSTE_OUT 2025'!C17*6%+'TABELA COM REAJUSTE_OUT 2025'!C17 -> 8550.4709 | D17: ='TABELA COM REAJUSTE_OUT 2025'!D17*6%+'TABELA COM REAJUSTE_OUT 2025'!D17 -> 10260.582 | E17: ='TABELA COM REAJUSTE_OUT 2025'!E17*6%+'TABELA COM REAJUSTE_OUT 2025'!E17 -> 10260.582 | F17: ='TABELA COM REAJUSTE_OUT 2025'!F17*6%+'TABELA COM REAJUSTE_OUT 2025'!F17 -> 10260.582 | G17: ='TABELA COM REAJUSTE_OUT 2025'!G17*6%+'TABELA COM REAJUSTE_OUT 2025'!G17 -> 5540.0131 | H17: ='TABELA COM REAJUSTE_OUT 2025'!H17*6%+'TABELA COM REAJUSTE_OUT 2025'!H17 -> 8550.4678 | I17: ='TABELA COM REAJUSTE_OUT 2025'!J17*6%+'TABELA COM REAJUSTE_OUT 2025'!J17 -> 10260.582 | J17: ='TABELA COM REAJUSTE_OUT 2025'!K17*6%+'TABELA COM REAJUSTE_OUT 2025'!K17 -> 10260.582
A18: 7 | B18: ='TABELA COM REAJUSTE_OUT 2025'!B18*6%+'TABELA COM REAJUSTE_OUT 2025'!B18 -> 9063.4912 | C18: ='TABELA COM REAJUSTE_OUT 2025'!C18*6%+'TABELA COM REAJUSTE_OUT 2025'!C18 -> 9063.4912 | D18: ='TABELA COM REAJUSTE_OUT 2025'!D18*6%+'TABELA COM REAJUSTE_OUT 2025'!D18 -> 10876.217 | E18: ='TABELA COM REAJUSTE_OUT 2025'!E18*6%+'TABELA COM REAJUSTE_OUT 2025'!E18 -> 10876.217 | F18: ='TABELA COM REAJUSTE_OUT 2025'!F18*6%+'TABELA COM REAJUSTE_OUT 2025'!F18 -> 10876.217 | G18: ='TABELA COM REAJUSTE_OUT 2025'!G18*6%+'TABELA COM REAJUSTE_OUT 2025'!G18 -> 5872.4139 | H18: ='TABELA COM REAJUSTE_OUT 2025'!H18*6%+'TABELA COM REAJUSTE_OUT 2025'!H18 -> 9063.4958 | I18: ='TABELA COM REAJUSTE_OUT 2025'!J18*6%+'TABELA COM REAJUSTE_OUT 2025'!J18 -> 10876.217 | J18: ='TABELA COM REAJUSTE_OUT 2025'!K18*6%+'TABELA COM REAJUSTE_OUT 2025'!K18 -> 10876.217
A19: 8 | B19: ='TABELA COM REAJUSTE_OUT 2025'!B19*6%+'TABELA COM REAJUSTE_OUT 2025'!B19 -> 9607.3038 | C19: ='TABELA COM REAJUSTE_OUT 2025'!C19*6%+'TABELA COM REAJUSTE_OUT 2025'!C19 -> 9607.3038 | D19: ='TABELA COM REAJUSTE_OUT 2025'!D19*6%+'TABELA COM REAJUSTE_OUT 2025'!D19 -> 11528.79 | E19: ='TABELA COM REAJUSTE_OUT 2025'!E19*6%+'TABELA COM REAJUSTE_OUT 2025'!E19 -> 11528.79 | F19: ='TABELA COM REAJUSTE_OUT 2025'!F19*6%+'TABELA COM REAJUSTE_OUT 2025'!F19 -> 11528.79 | G19: ='TABELA COM REAJUSTE_OUT 2025'!G19*6%+'TABELA COM REAJUSTE_OUT 2025'!G19 -> 6224.7587 | H19: ='TABELA COM REAJUSTE_OUT 2025'!H19*6%+'TABELA COM REAJUSTE_OUT 2025'!H19 -> 9607.3056 | I19: ='TABELA COM REAJUSTE_OUT 2025'!J19*6%+'TABELA COM REAJUSTE_OUT 2025'!J19 -> 11528.79 | J19: ='TABELA COM REAJUSTE_OUT 2025'!K19*6%+'TABELA COM REAJUSTE_OUT 2025'!K19 -> 11528.79
A20: 9 | B20: ='TABELA COM REAJUSTE_OUT 2025'!B20*6%+'TABELA COM REAJUSTE_OUT 2025'!B20 -> 10183.739 | C20: ='TABELA COM REAJUSTE_OUT 2025'!C20*6%+'TABELA COM REAJUSTE_OUT 2025'!C20 -> 10183.739 | D20: ='TABELA COM REAJUSTE_OUT 2025'!D20*6%+'TABELA COM REAJUSTE_OUT 2025'!D20 -> 12220.517 | E20: ='TABELA COM REAJUSTE_OUT 2025'!E20*6%+'TABELA COM REAJUSTE_OUT 2025'!E20 -> 12220.517 | F20: ='TABELA COM REAJUSTE_OUT 2025'!F20*6%+'TABELA COM REAJUSTE_OUT 2025'!F20 -> 12220.517 | G20: ='TABELA COM REAJUSTE_OUT 2025'!G20*6%+'TABELA COM REAJUSTE_OUT 2025'!G20 -> 6598.2442 | H20: ='TABELA COM REAJUSTE_OUT 2025'!H20*6%+'TABELA COM REAJUSTE_OUT 2025'!H20 -> 10183.744 | I20: ='TABELA COM REAJUSTE_OUT 2025'!J20*6%+'TABELA COM REAJUSTE_OUT 2025'!J20 -> 12220.517 | J20: ='TABELA COM REAJUSTE_OUT 2025'!K20*6%+'TABELA COM REAJUSTE_OUT 2025'!K20 -> 12220.517
A21: 10 | B21: ='TABELA COM REAJUSTE_OUT 2025'!B21*6%+'TABELA COM REAJUSTE_OUT 2025'!B21 -> 10794.77 | C21: ='TABELA COM REAJUSTE_OUT 2025'!C21*6%+'TABELA COM REAJUSTE_OUT 2025'!C21 -> 10794.77 | D21: ='TABELA COM REAJUSTE_OUT 2025'!D21*6%+'TABELA COM REAJUSTE_OUT 2025'!D21 -> 12953.748 | E21: ='TABELA COM REAJUSTE_OUT 2025'!E21*6%+'TABELA COM REAJUSTE_OUT 2025'!E21 -> 12953.748 | F21: ='TABELA COM REAJUSTE_OUT 2025'!F21*6%+'TABELA COM REAJUSTE_OUT 2025'!F21 -> 12953.748 | G21: ='TABELA COM REAJUSTE_OUT 2025'!G21*6%+'TABELA COM REAJUSTE_OUT 2025'!G21 -> 6994.1389 | H21: ='TABELA COM REAJUSTE_OUT 2025'!H21*6%+'TABELA COM REAJUSTE_OUT 2025'!H21 -> 10794.769 | I21: ='TABELA COM REAJUSTE_OUT 2025'!J21*6%+'TABELA COM REAJUSTE_OUT 2025'!J21 -> 12953.748 | J21: ='TABELA COM REAJUSTE_OUT 2025'!K21*6%+'TABELA COM REAJUSTE_OUT 2025'!K21 -> 12953.748
A22: 11 | B22: ='TABELA COM REAJUSTE_OUT 2025'!B22*6%+'TABELA COM REAJUSTE_OUT 2025'!B22 -> 11442.457 | C22: ='TABELA COM REAJUSTE_OUT 2025'!C22*6%+'TABELA COM REAJUSTE_OUT 2025'!C22 -> 11442.457 | D22: ='TABELA COM REAJUSTE_OUT 2025'!D22*6%+'TABELA COM REAJUSTE_OUT 2025'!D22 -> 13730.973 | E22: ='TABELA COM REAJUSTE_OUT 2025'!E22*6%+'TABELA COM REAJUSTE_OUT 2025'!E22 -> 13730.973 | F22: ='TABELA COM REAJUSTE_OUT 2025'!F22*6%+'TABELA COM REAJUSTE_OUT 2025'!F22 -> 13730.973 | G22: ='TABELA COM REAJUSTE_OUT 2025'!G22*6%+'TABELA COM REAJUSTE_OUT 2025'!G22 -> 7413.7872 | H22: ='TABELA COM REAJUSTE_OUT 2025'!H22*6%+'TABELA COM REAJUSTE_OUT 2025'!H22 -> 11442.455 | I22: ='TABELA COM REAJUSTE_OUT 2025'!J22*6%+'TABELA COM REAJUSTE_OUT 2025'!J22 -> 13730.973 | J22: ='TABELA COM REAJUSTE_OUT 2025'!K22*6%+'TABELA COM REAJUSTE_OUT 2025'!K22 -> 13730.973
A23: 12 | B23: ='TABELA COM REAJUSTE_OUT 2025'!B23*6%+'TABELA COM REAJUSTE_OUT 2025'!B23 -> 12129.002 | C23: ='TABELA COM REAJUSTE_OUT 2025'!C23*6%+'TABELA COM REAJUSTE_OUT 2025'!C23 -> 12129.002 | D23: ='TABELA COM REAJUSTE_OUT 2025'!D23*6%+'TABELA COM REAJUSTE_OUT 2025'!D23 -> 14554.831 | E23: ='TABELA COM REAJUSTE_OUT 2025'!E23*6%+'TABELA COM REAJUSTE_OUT 2025'!E23 -> 14554.831 | F23: ='TABELA COM REAJUSTE_OUT 2025'!F23*6%+'TABELA COM REAJUSTE_OUT 2025'!F23 -> 14554.831 | G23: ='TABELA COM REAJUSTE_OUT 2025'!G23*6%+'TABELA COM REAJUSTE_OUT 2025'!G23 -> 7858.6145 | H23: ='TABELA COM REAJUSTE_OUT 2025'!H23*6%+'TABELA COM REAJUSTE_OUT 2025'!H23 -> 12129.002 | I23: ='TABELA COM REAJUSTE_OUT 2025'!J23*6%+'TABELA COM REAJUSTE_OUT 2025'!J23 -> 14554.831 | J23: ='TABELA COM REAJUSTE_OUT 2025'!K23*6%+'TABELA COM REAJUSTE_OUT 2025'!K23 -> 14554.831
... A31: 20 | B31: ='TABELA COM REAJUSTE_OUT 2025'!B31*6%+'TABELA COM REAJUSTE_OUT 2025'!B31 -> 19331.784 | C31: ='TABELA COM REAJUSTE_OUT 2025'!C31*6%+'TABELA COM REAJUSTE_OUT 2025'!C31 -> 19331.784 | D31: ='TABELA COM REAJUSTE_OUT 2025'!D31*6%+'TABELA COM REAJUSTE_OUT 2025'!D31 -> 23198.19 | E31: ='TABELA COM REAJUSTE_OUT 2025'!E31*6%+'TABELA COM REAJUSTE_OUT 2025'!E31 -> 23198.19 | F31: ='TABELA COM REAJUSTE_OUT 2025'!F31*6%+'TABELA COM REAJUSTE_OUT 2025'!F31 -> 23198.19 | G31: ='TABELA COM REAJUSTE_OUT 2025'!G31*6%+'TABELA COM REAJUSTE_OUT 2025'!G31 -> 12525.438 | H31: ='TABELA COM REAJUSTE_OUT 2025'!H31*6%+'TABELA COM REAJUSTE_OUT 2025'!H31 -> 19331.786 | I31: ='TABELA COM REAJUSTE_OUT 2025'!J31*6%+'TABELA COM REAJUSTE_OUT 2025'!J31 -> 23198.19 | J31: ='TABELA COM REAJUSTE_OUT 2025'!K31*6%+'TABELA COM REAJUSTE_OUT 2025'!K31 -> 23198.19
A33: LEI Nº. 9.923 DE 25 DE MARÇO DE 2026 ANEXO II – Fls 02/02
E42: TABELA DE VENCIMENTOS DO QUADRO DE SERVIDORES EFETIVOS DO TCE/SE PARTE SUPLEMENTAR
E44: Referências | F44: Motorista | G44: Agente de Portaria
E45: 1 | F45: ='TABELA COM REAJUSTE_OUT 2025'!F45*6%+'TABELA COM REAJUSTE_OUT 2025'!F45 -> 3449.8308 | G45: ='TABELA COM REAJUSTE_OUT 2025'!G45*6%+'TABELA COM REAJUSTE_OUT 2025'!G45 -> 3449.8308
E46: =E45+1 -> 2 | F46: ='TABELA COM REAJUSTE_OUT 2025'!F46*6%+'TABELA COM REAJUSTE_OUT 2025'!F46 -> 3656.8207 | G46: ='TABELA COM REAJUSTE_OUT 2025'!G46*6%+'TABELA COM REAJUSTE_OUT 2025'!G46 -> 3656.8207
E47: =E46+1 -> 3 | F47: ='TABELA COM REAJUSTE_OUT 2025'!F47*6%+'TABELA COM REAJUSTE_OUT 2025'!F47 -> 3876.2299 | G47: ='TABELA COM REAJUSTE_OUT 2025'!G47*6%+'TABELA COM REAJUSTE_OUT 2025'!G47 -> 3876.2299
E48: =E47+1 -> 4 | F48: ='TABELA COM REAJUSTE_OUT 2025'!F48*6%+'TABELA COM REAJUSTE_OUT 2025'!F48 -> 4108.8037 | G48: ='TABELA COM REAJUSTE_OUT 2025'!G48*6%+'TABELA COM REAJUSTE_OUT 2025'!G48 -> 4108.8037
E49: =E48+1 -> 5 | F49: ='TABELA COM REAJUSTE_OUT 2025'!F49*6%+'TABELA COM REAJUSTE_OUT 2025'!F49 -> 4355.332 | G49: ='TABELA COM REAJUSTE_OUT 2025'!G49*6%+'TABELA COM REAJUSTE_OUT 2025'!G49 -> 4355.332
E50: =E49+1 -> 6 | F50: ='TABELA COM REAJUSTE_OUT 2025'!F50*6%+'TABELA COM REAJUSTE_OUT 2025'!F50 -> 4616.6519 | G50: ='TABELA COM REAJUSTE_OUT 2025'!G50*6%+'TABELA COM REAJUSTE_OUT 2025'!G50 -> 4616.6519
E51: =E50+1 -> 7 | F51: ='TABELA COM REAJUSTE_OUT 2025'!F51*6%+'TABELA COM REAJUSTE_OUT 2025'!F51 -> 4893.651 | G51: ='TABELA COM REAJUSTE_OUT 2025'!G51*6%+'TABELA COM REAJUSTE_OUT 2025'!G51 -> 4893.651
E52: =E51+1 -> 8 | F52: ='TABELA COM REAJUSTE_OUT 2025'!F52*6%+'TABELA COM REAJUSTE_OUT 2025'!F52 -> 5187.27 | G52: ='TABELA COM REAJUSTE_OUT 2025'!G52*6%+'TABELA COM REAJUSTE_OUT 2025'!G52 -> 5187.27
E53: =E52+1 -> 9 | F53: ='TABELA COM REAJUSTE_OUT 2025'!F53*6%+'TABELA COM REAJUSTE_OUT 2025'!F53 -> 5498.5062 | G53: ='TABELA COM REAJUSTE_OUT 2025'!G53*6%+'TABELA COM REAJUSTE_OUT 2025'!G53 -> 5498.5062
E54: =E53+1 -> 10 | F54: ='TABELA COM REAJUSTE_OUT 2025'!F54*6%+'TABELA COM REAJUSTE_OUT 2025'!F54 -> 5828.4166 | G54: ='TABELA COM REAJUSTE_OUT 2025'!G54*6%+'TABELA COM REAJUSTE_OUT 2025'!G54 -> 5828.4166
E55: =E54+1 -> 11 | F55: ='TABELA COM REAJUSTE_OUT 2025'!F55*6%+'TABELA COM REAJUSTE_OUT 2025'!F55 -> 6178.1216 | G55: ='TABELA COM REAJUSTE_OUT 2025'!G55*6%+'TABELA COM REAJUSTE_OUT 2025'!G55 -> 6178.1216
E56: =E55+1 -> 12 | F56: ='TABELA COM REAJUSTE_OUT 2025'!F56*6%+'TABELA COM REAJUSTE_OUT 2025'!F56 -> 6548.8089 | G56: ='TABELA COM REAJUSTE_OUT 2025'!G56*6%+'TABELA COM REAJUSTE_OUT 2025'!G56 -> 6548.8089
E57: =E56+1 -> 13 | F57: ='TABELA COM REAJUSTE_OUT 2025'!F57*6%+'TABELA COM REAJUSTE_OUT 2025'!F57 -> 6941.7375 | G57: ='TABELA COM REAJUSTE_OUT 2025'!G57*6%+'TABELA COM REAJUSTE_OUT 2025'!G57 -> 6941.7375
... E64: =E63+1 -> 20 | F64: ='TABELA COM REAJUSTE_OUT 2025'!F64*6%+'TABELA COM REAJUSTE_OUT 2025'!F64 -> 10437.806 | G64: ='TABELA COM REAJUSTE_OUT 2025'!G64*6%+'TABELA COM REAJUSTE_OUT 2025'!G64 -> 10437.806

Sheet TABELA COM REAJUSTE_OUT 2025
A1: LEI Nº. 9.773 DE 13 DE OUTUBRO DE 2025 Anexo II – Fls. 01/02
A8: TABELA DE VENCIMENTOS DO QUADRO DE SERVIDORES EFETIVOS DO TCE/SE
A9: PARTE PERMANENTE
A10: Grupo Ocupacional | B10: Controle Externo | G10: Apoio Técnico e Administrativo
A11: Referências | B11: Auditor de Controle Externo I - Área de Auditoria Governament al | C11: Auditor de Controle Externo I - Área de Engenharia | D11: Auditor de Controle Externo II - Área de Auditoria Governamental | E11: Auditor de Controle Externo II - Área de Engenharia | F11: Auditor de Tecnologia da Informação | G11: Técnico Administrativo | H11: Enfermeiro | I11: Analista de Tecnologiada Informação | J11: Cirurgião- Dentista | K11: Médico
A12: 1 | B12: ='TABELA COM REAJUSTE_JAN 2025'!B12*7.5%+'TABELA COM REAJUSTE_JAN 2025'!B12 -> 6027.7424 | C12: ='TABELA COM REAJUSTE_JAN 2025'!C12*7.5%+'TABELA COM REAJUSTE_JAN 2025'!C12 -> 6027.7424 | D12: ='TABELA COM REAJUSTE_JAN 2025'!D12*7.5%+'TABELA COM REAJUSTE_JAN 2025'!D12 -> 7233.3053 | E12: ='TABELA COM REAJUSTE_JAN 2025'!E12*7.5%+'TABELA COM REAJUSTE_JAN 2025'!E12 -> 7233.3053 | F12: ='TABELA COM REAJUSTE_JAN 2025'!F12*7.5%+'TABELA COM REAJUSTE_JAN 2025'!F12 -> 7233.3053 | G12: ='TABELA COM REAJUSTE_JAN 2025'!G12*7.5%+'TABELA COM REAJUSTE_JAN 2025'!G12 -> 3905.4906 | H12: ='TABELA COM REAJUSTE_JAN 2025'!H12*7.5%+'TABELA COM REAJUSTE_JAN 2025'!H12 -> 6027.7424 | I12: ='TABELA COM REAJUSTE_JAN 2025'!I12*7.5%+'TABELA COM REAJUSTE_JAN 2025'!I12 -> 7233.3053 | ... K12: ='TABELA COM REAJUSTE_JAN 2025'!K12*7.5%+'TABELA COM REAJUSTE_JAN 2025'!K12 -> 7233.3053
A13: 2 | B13: ='TABELA COM REAJUSTE_JAN 2025'!B13*7.5%+'TABELA COM REAJUSTE_JAN 2025'!B13 -> 6389.4028 | C13: ='TABELA COM REAJUSTE_JAN 2025'!C13*7.5%+'TABELA COM REAJUSTE_JAN 2025'!C13 -> 6389.4028 | D13: ='TABELA COM REAJUSTE_JAN 2025'!D13*7.5%+'TABELA COM REAJUSTE_JAN 2025'!D13 -> 7667.3037 | E13: ='TABELA COM REAJUSTE_JAN 2025'!E13*7.5%+'TABELA COM REAJUSTE_JAN 2025'!E13 -> 7667.3037 | F13: ='TABELA COM REAJUSTE_JAN 2025'!F13*7.5%+'TABELA COM REAJUSTE_JAN 2025'!F13 -> 7667.3037 | G13: ='TABELA COM REAJUSTE_JAN 2025'!G13*7.5%+'TABELA COM REAJUSTE_JAN 2025'!G13 -> 4139.8201 | H13: ='TABELA COM REAJUSTE_JAN 2025'!H13*7.5%+'TABELA COM REAJUSTE_JAN 2025'!H13 -> 6389.4069 | I13: ='TABELA COM REAJUSTE_JAN 2025'!I13*7.5%+'TABELA COM REAJUSTE_JAN 2025'!I13 -> 7667.3037 | ... K13: ='TABELA COM REAJUSTE_JAN 2025'!K13*7.5%+'TABELA COM REAJUSTE_JAN 2025'!K13 -> 7667.3037
A14: 3 | B14: ='TABELA COM REAJUSTE_JAN 2025'!B14*7.5%+'TABELA COM REAJUSTE_JAN 2025'!B14 -> 6772.7687 | C14: ='TABELA COM REAJUSTE_JAN 2025'!C14*7.5%+'TABELA COM REAJUSTE_JAN 2025'!C14 -> 6772.7687 | D14: ='TABELA COM REAJUSTE_JAN 2025'!D14*7.5%+'TABELA COM REAJUSTE_JAN 2025'!D14 -> 8127.3419 | E14: ='TABELA COM REAJUSTE_JAN 2025'!E14*7.5%+'TABELA COM REAJUSTE_JAN 2025'!E14 -> 8127.3419 | F14: ='TABELA COM REAJUSTE_JAN 2025'!F14*7.5%+'TABELA COM REAJUSTE_JAN 2025'!F14 -> 8127.3419 | G14: ='TABELA COM REAJUSTE_JAN 2025'!G14*7.5%+'TABELA COM REAJUSTE_JAN 2025'!G14 -> 4388.2093 | H14: ='TABELA COM REAJUSTE_JAN 2025'!H14*7.5%+'TABELA COM REAJUSTE_JAN 2025'!H14 -> 6772.7713 | I14: ='TABELA COM REAJUSTE_JAN 2025'!I14*7.5%+'TABELA COM REAJUSTE_JAN 2025'!I14 -> 8127.3419 | ... K14: ='TABELA COM REAJUSTE_JAN 2025'!K14*7.5%+'TABELA COM REAJUSTE_JAN 2025'!K14 -> 8127.3419
A15: 4 | B15: ='TABELA COM REAJUSTE_JAN 2025'!B15*7.5%+'TABELA COM REAJUSTE_JAN 2025'!B15 -> 7179.1324 | C15: ='TABELA COM REAJUSTE_JAN 2025'!C15*7.5%+'TABELA COM REAJUSTE_JAN 2025'!C15 -> 7179.1324 | D15: ='TABELA COM REAJUSTE_JAN 2025'!D15*7.5%+'TABELA COM REAJUSTE_JAN 2025'!D15 -> 8614.9824 | E15: ='TABELA COM REAJUSTE_JAN 2025'!E15*7.5%+'TABELA COM REAJUSTE_JAN 2025'!E15 -> 8614.9824 | F15: ='TABELA COM REAJUSTE_JAN 2025'!F15*7.5%+'TABELA COM REAJUSTE_JAN 2025'!F15 -> 8614.9824 | G15: ='TABELA COM REAJUSTE_JAN 2025'!G15*7.5%+'TABELA COM REAJUSTE_JAN 2025'!G15 -> 4651.5018 | H15: ='TABELA COM REAJUSTE_JAN 2025'!H15*7.5%+'TABELA COM REAJUSTE_JAN 2025'!H15 -> 7179.1376 | I15: ='TABELA COM REAJUSTE_JAN 2025'!I15*7.5%+'TABELA COM REAJUSTE_JAN 2025'!I15 -> 8614.9824 | ... K15: ='TABELA COM REAJUSTE_JAN 2025'!K15*7.5%+'TABELA COM REAJUSTE_JAN 2025'!K15 -> 8614.9824
A16: 5 | B16: ='TABELA COM REAJUSTE_JAN 2025'!B16*7.5%+'TABELA COM REAJUSTE_JAN 2025'!B16 -> 7609.883 | C16: ='TABELA COM REAJUSTE_JAN 2025'!C16*7.5%+'TABELA COM REAJUSTE_JAN 2025'!C16 -> 7609.883 | D16: ='TABELA COM REAJUSTE_JAN 2025'!D16*7.5%+'TABELA COM REAJUSTE_JAN 2025'!D16 -> 9131.8813 | E16: ='TABELA COM REAJUSTE_JAN 2025'!E16*7.5%+'TABELA COM REAJUSTE_JAN 2025'!E16 -> 9131.8813 | F16: ='TABELA COM REAJUSTE_JAN 2025'!F16*7.5%+'TABELA COM REAJUSTE_JAN 2025'!F16 -> 9131.8813 | G16: ='TABELA COM REAJUSTE_JAN 2025'!G16*7.5%+'TABELA COM REAJUSTE_JAN 2025'!G16 -> 4930.5919 | H16: ='TABELA COM REAJUSTE_JAN 2025'!H16*7.5%+'TABELA COM REAJUSTE_JAN 2025'!H16 -> 7609.8859 | I16: ='TABELA COM REAJUSTE_JAN 2025'!I16*7.5%+'TABELA COM REAJUSTE_JAN 2025'!I16 -> 9131.8813 | ... K16: ='TABELA COM REAJUSTE_JAN 2025'!K16*7.5%+'TABELA COM REAJUSTE_JAN 2025'!K16 -> 9131.8813
A17: 6 | B17: ='TABELA COM REAJUSTE_JAN 2025'!B17*7.5%+'TABELA COM REAJUSTE_JAN 2025'!B17 -> 8066.482 | C17: ='TABELA COM REAJUSTE_JAN 2025'!C17*7.5%+'TABELA COM REAJUSTE_JAN 2025'!C17 -> 8066.482 | D17: ='TABELA COM REAJUSTE_JAN 2025'!D17*7.5%+'TABELA COM REAJUSTE_JAN 2025'!D17 -> 9679.7942 | E17: ='TABELA COM REAJUSTE_JAN 2025'!E17*7.5%+'TABELA COM REAJUSTE_JAN 2025'!E17 -> 9679.7942 | F17: ='TABELA COM REAJUSTE_JAN 2025'!F17*7.5%+'TABELA COM REAJUSTE_JAN 2025'!F17 -> 9679.7942 | G17: ='TABELA COM REAJUSTE_JAN 2025'!G17*7.5%+'TABELA COM REAJUSTE_JAN 2025'!G17 -> 5226.4274 | H17: ='TABELA COM REAJUSTE_JAN 2025'!H17*7.5%+'TABELA COM REAJUSTE_JAN 2025'!H17 -> 8066.479 | I17: ='TABELA COM REAJUSTE_JAN 2025'!I17*7.5%+'TABELA COM REAJUSTE_JAN 2025'!I17 -> 9679.7942 | ... K17: ='TABELA COM REAJUSTE_JAN 2025'!K17*7.5%+'TABELA COM REAJUSTE_JAN 2025'!K17 -> 9679.7942
A18: 7 | B18: ='TABELA COM REAJUSTE_JAN 2025'!B18*7.5%+'TABELA COM REAJUSTE_JAN 2025'!B18 -> 8550.4634 | C18: ='TABELA COM REAJUSTE_JAN 2025'!C18*7.5%+'TABELA COM REAJUSTE_JAN 2025'!C18 -> 8550.4634 | D18: ='TABELA COM REAJUSTE_JAN 2025'!D18*7.5%+'TABELA COM REAJUSTE_JAN 2025'!D18 -> 10260.582 | E18: ='TABELA COM REAJUSTE_JAN 2025'!E18*7.5%+'TABELA COM REAJUSTE_JAN 2025'!E18 -> 10260.582 | F18: ='TABELA COM REAJUSTE_JAN 2025'!F18*7.5%+'TABELA COM REAJUSTE_JAN 2025'!F18 -> 10260.582 | G18: ='TABELA COM REAJUSTE_JAN 2025'!G18*7.5%+'TABELA COM REAJUSTE_JAN 2025'!G18 -> 5540.0131 | H18: ='TABELA COM REAJUSTE_JAN 2025'!H18*7.5%+'TABELA COM REAJUSTE_JAN 2025'!H18 -> 8550.4678 | I18: ='TABELA COM REAJUSTE_JAN 2025'!I18*7.5%+'TABELA COM REAJUSTE_JAN 2025'!I18 -> 10260.582 | ... K18: ='TABELA COM REAJUSTE_JAN 2025'!K18*7.5%+'TABELA COM REAJUSTE_JAN 2025'!K18 -> 10260.582
A19: 8 | B19: ='TABELA COM REAJUSTE_JAN 2025'!B19*7.5%+'TABELA COM REAJUSTE_JAN 2025'!B19 -> 9063.4941 | C19: ='TABELA COM REAJUSTE_JAN 2025'!C19*7.5%+'TABELA COM REAJUSTE_JAN 2025'!C19 -> 9063.4941 | D19: ='TABELA COM REAJUSTE_JAN 2025'!D19*7.5%+'TABELA COM REAJUSTE_JAN 2025'!D19 -> 10876.217 | E19: ='TABELA COM REAJUSTE_JAN 2025'!E19*7.5%+'TABELA COM REAJUSTE_JAN 2025'!E19 -> 10876.217 | F19: ='TABELA COM REAJUSTE_JAN 2025'!F19*7.5%+'TABELA COM REAJUSTE_JAN 2025'!F19 -> 10876.217 | G19: ='TABELA COM REAJUSTE_JAN 2025'!G19*7.5%+'TABELA COM REAJUSTE_JAN 2025'!G19 -> 5872.4139 | H19: ='TABELA COM REAJUSTE_JAN 2025'!H19*7.5%+'TABELA COM REAJUSTE_JAN 2025'!H19 -> 9063.4958 | I19: ='TABELA COM REAJUSTE_JAN 2025'!I19*7.5%+'TABELA COM REAJUSTE_JAN 2025'!I19 -> 10876.217 | ... K19: ='TABELA COM REAJUSTE_JAN 2025'!K19*7.5%+'TABELA COM REAJUSTE_JAN 2025'!K19 -> 10876.217
A20: 9 | B20: ='TABELA COM REAJUSTE_JAN 2025'!B20*7.5%+'TABELA COM REAJUSTE_JAN 2025'!B20 -> 9607.3014 | C20: ='TABELA COM REAJUSTE_JAN 2025'!C20*7.5%+'TABELA COM REAJUSTE_JAN 2025'!C20 -> 9607.3014 | D20: ='TABELA COM REAJUSTE_JAN 2025'!D20*7.5%+'TABELA COM REAJUSTE_JAN 2025'!D20 -> 11528.79 | E20: ='TABELA COM REAJUSTE_JAN 2025'!E20*7.5%+'TABELA COM REAJUSTE_JAN 2025'!E20 -> 11528.79 | F20: ='TABELA COM REAJUSTE_JAN 2025'!F20*7.5%+'TABELA COM REAJUSTE_JAN 2025'!F20 -> 11528.79 | G20: ='TABELA COM REAJUSTE_JAN 2025'!G20*7.5%+'TABELA COM REAJUSTE_JAN 2025'!G20 -> 6224.7587 | H20: ='TABELA COM REAJUSTE_JAN 2025'!H20*7.5%+'TABELA COM REAJUSTE_JAN 2025'!H20 -> 9607.3056 | I20: ='TABELA COM REAJUSTE_JAN 2025'!I20*7.5%+'TABELA COM REAJUSTE_JAN 2025'!I20 -> 11528.79 | ... K20: ='TABELA COM REAJUSTE_JAN 2025'!K20*7.5%+'TABELA COM REAJUSTE_JAN 2025'!K20 -> 11528.79
A21: 10 | B21: ='TABELA COM REAJUSTE_JAN 2025'!B21*7.5%+'TABELA COM REAJUSTE_JAN 2025'!B21 -> 10183.745 | C21: ='TABELA COM REAJUSTE_JAN 2025'!C21*7.5%+'TABELA COM REAJUSTE_JAN 2025'!C21 -> 10183.745 | D21: ='TABELA COM REAJUSTE_JAN 2025'!D21*7.5%+'TABELA COM REAJUSTE_JAN 2025'!D21 -> 12220.517 | E21: ='TABELA COM REAJUSTE_JAN 2025'!E21*7.5%+'TABELA COM REAJUSTE_JAN 2025'!E21 -> 12220.517 | F21: ='TABELA COM REAJUSTE_JAN 2025'!F21*7.5%+'TABELA COM REAJUSTE_JAN 2025'!F21 -> 12220.517 | G21: ='TABELA COM REAJUSTE_JAN 2025'!G21*7.5%+'TABELA COM REAJUSTE_JAN 2025'!G21 -> 6598.2442 | H21: ='TABELA COM REAJUSTE_JAN 2025'!H21*7.5%+'TABELA COM REAJUSTE_JAN 2025'!H21 -> 10183.744 | I21: ='TABELA COM REAJUSTE_JAN 2025'!I21*7.5%+'TABELA COM REAJUSTE_JAN 2025'!I21 -> 12220.517 | ... K21: ='TABELA COM REAJUSTE_JAN 2025'!K21*7.5%+'TABELA COM REAJUSTE_JAN 2025'!K21 -> 12220.517
A22: 11 | B22: ='TABELA COM REAJUSTE_JAN 2025'!B22*7.5%+'TABELA COM REAJUSTE_JAN 2025'!B22 -> 10794.77 | C22: ='TABELA COM REAJUSTE_JAN 2025'!C22*7.5%+'TABELA COM REAJUSTE_JAN 2025'!C22 -> 10794.77 | D22: ='TABELA COM REAJUSTE_JAN 2025'!D22*7.5%+'TABELA COM REAJUSTE_JAN 2025'!D22 -> 12953.748 | E22: ='TABELA COM REAJUSTE_JAN 2025'!E22*7.5%+'TABELA COM REAJUSTE_JAN 2025'!E22 -> 12953.748 | F22: ='TABELA COM REAJUSTE_JAN 2025'!F22*7.5%+'TABELA COM REAJUSTE_JAN 2025'!F22 -> 12953.748 | G22: ='TABELA COM REAJUSTE_JAN 2025'!G22*7.5%+'TABELA COM REAJUSTE_JAN 2025'!G22 -> 6994.1389 | H22: ='TABELA COM REAJUSTE_JAN 2025'!H22*7.5%+'TABELA COM REAJUSTE_JAN 2025'!H22 -> 10794.769 | I22: ='TABELA COM REAJUSTE_JAN 2025'!I22*7.5%+'TABELA COM REAJUSTE_JAN 2025'!I22 -> 12953.748 | ... K22: ='TABELA COM REAJUSTE_JAN 2025'!K22*7.5%+'TABELA COM REAJUSTE_JAN 2025'!K22 -> 12953.748
A23: 12 | B23: ='TABELA COM REAJUSTE_JAN 2025'!B23*7.5%+'TABELA COM REAJUSTE_JAN 2025'!B23 -> 11442.454 | C23: ='TABELA COM REAJUSTE_JAN 2025'!C23*7.5%+'TABELA COM REAJUSTE_JAN 2025'!C23 -> 11442.454 | D23: ='TABELA COM REAJUSTE_JAN 2025'!D23*7.5%+'TABELA COM REAJUSTE_JAN 2025'!D23 -> 13730.973 | E23: ='TABELA COM REAJUSTE_JAN 2025'!E23*7.5%+'TABELA COM REAJUSTE_JAN 2025'!E23 -> 13730.973 | F23: ='TABELA COM REAJUSTE_JAN 2025'!F23*7.5%+'TABELA COM REAJUSTE_JAN 2025'!F23 -> 13730.973 | G23: ='TABELA COM REAJUSTE_JAN 2025'!G23*7.5%+'TABELA COM REAJUSTE_JAN 2025'!G23 -> 7413.7872 | H23: ='TABELA COM REAJUSTE_JAN 2025'!H23*7.5%+'TABELA COM REAJUSTE_JAN 2025'!H23 -> 11442.455 | I23: ='TABELA COM REAJUSTE_JAN 2025'!I23*7.5%+'TABELA COM REAJUSTE_JAN 2025'!I23 -> 13730.973 | ... K23: ='TABELA COM REAJUSTE_JAN 2025'!K23*7.5%+'TABELA COM REAJUSTE_JAN 2025'!K23 -> 13730.973
... A31: 20 | B31: ='TABELA COM REAJUSTE_JAN 2025'!B31*7.5%+'TABELA COM REAJUSTE_JAN 2025'!B31 -> 18237.533 | C31: ='TABELA COM REAJUSTE_JAN 2025'!C31*7.5%+'TABELA COM REAJUSTE_JAN 2025'!C31 -> 18237.533 | D31: ='TABELA COM REAJUSTE_JAN 2025'!D31*7.5%+'TABELA COM REAJUSTE_JAN 2025'!D31 -> 21885.085 | E31: ='TABELA COM REAJUSTE_JAN 2025'!E31*7.5%+'TABELA COM REAJUSTE_JAN 2025'!E31 -> 21885.085 | F31: ='TABELA COM REAJUSTE_JAN 2025'!F31*7.5%+'TABELA COM REAJUSTE_JAN 2025'!F31 -> 21885.085 | G31: ='TABELA COM REAJUSTE_JAN 2025'!G31*7.5%+'TABELA COM REAJUSTE_JAN 2025'!G31 -> 11816.45 | H31: ='TABELA COM REAJUSTE_JAN 2025'!H31*7.5%+'TABELA COM REAJUSTE_JAN 2025'!H31 -> 18237.534 | I31: ='TABELA COM REAJUSTE_JAN 2025'!I31*7.5%+'TABELA COM REAJUSTE_JAN 2025'!I31 -> 21885.085 | ... K31: ='TABELA COM REAJUSTE_JAN 2025'!K31*7.5%+'TABELA COM REAJUSTE_JAN 2025'!K31 -> 21885.085
A33: LEI Nº. 9.773 DE 13 DE OUTUBRO DE 2025 ANEXO II – Fls 02/02
E42: TABELA DE VENCIMENTOS DO QUADRO DE SERVIDORES EFETIVOS DO TCE/SE PARTE SUPLEMENTAR
E44: Referências | F44: Motorista | G44: Agente de Portaria
E45: 1 | F45: ='TABELA COM REAJUSTE_JAN 2025'!E45*7.5%+'TABELA COM REAJUSTE_JAN 2025'!E45 -> 3254.5574 | G45: ='TABELA COM REAJUSTE_JAN 2025'!F45*7.5%+'TABELA COM REAJUSTE_JAN 2025'!F45 -> 3254.5574
E46: =E45+1 -> 2 | F46: ='TABELA COM REAJUSTE_JAN 2025'!E46*7.5%+'TABELA COM REAJUSTE_JAN 2025'!E46 -> 3449.8308 | G46: ='TABELA COM REAJUSTE_JAN 2025'!F46*7.5%+'TABELA COM REAJUSTE_JAN 2025'!F46 -> 3449.8308
E47: =E46+1 -> 3 | F47: ='TABELA COM REAJUSTE_JAN 2025'!E47*7.5%+'TABELA COM REAJUSTE_JAN 2025'!E47 -> 3656.8207 | G47: ='TABELA COM REAJUSTE_JAN 2025'!F47*7.5%+'TABELA COM REAJUSTE_JAN 2025'!F47 -> 3656.8207
E48: =E47+1 -> 4 | F48: ='TABELA COM REAJUSTE_JAN 2025'!E48*7.5%+'TABELA COM REAJUSTE_JAN 2025'!E48 -> 3876.2299 | G48: ='TABELA COM REAJUSTE_JAN 2025'!F48*7.5%+'TABELA COM REAJUSTE_JAN 2025'!F48 -> 3876.2299
E49: =E48+1 -> 5 | F49: ='TABELA COM REAJUSTE_JAN 2025'!E49*7.5%+'TABELA COM REAJUSTE_JAN 2025'!E49 -> 4108.8037 | G49: ='TABELA COM REAJUSTE_JAN 2025'!F49*7.5%+'TABELA COM REAJUSTE_JAN 2025'!F49 -> 4108.8037
E50: =E49+1 -> 6 | F50: ='TABELA COM REAJUSTE_JAN 2025'!E50*7.5%+'TABELA COM REAJUSTE_JAN 2025'!E50 -> 4355.332 | G50: ='TABELA COM REAJUSTE_JAN 2025'!F50*7.5%+'TABELA COM REAJUSTE_JAN 2025'!F50 -> 4355.332
E51: =E50+1 -> 7 | F51: ='TABELA COM REAJUSTE_JAN 2025'!E51*7.5%+'TABELA COM REAJUSTE_JAN 2025'!E51 -> 4616.6519 | G51: ='TABELA COM REAJUSTE_JAN 2025'!F51*7.5%+'TABELA COM REAJUSTE_JAN 2025'!F51 -> 4616.6519
E52: =E51+1 -> 8 | F52: ='TABELA COM REAJUSTE_JAN 2025'!E52*7.5%+'TABELA COM REAJUSTE_JAN 2025'!E52 -> 4893.651 | G52: ='TABELA COM REAJUSTE_JAN 2025'!F52*7.5%+'TABELA COM REAJUSTE_JAN 2025'!F52 -> 4893.651
E53: =E52+1 -> 9 | F53: ='TABELA COM REAJUSTE_JAN 2025'!E53*7.5%+'TABELA COM REAJUSTE_JAN 2025'!E53 -> 5187.27 | G53: ='TABELA COM REAJUSTE_JAN 2025'!F53*7.5%+'TABELA COM REAJUSTE_JAN 2025'!F53 -> 5187.27
E54: =E53+1 -> 10 | F54: ='TABELA COM REAJUSTE_JAN 2025'!E54*7.5%+'TABELA COM REAJUSTE_JAN 2025'!E54 -> 5498.5062 | G54: ='TABELA COM REAJUSTE_JAN 2025'!F54*7.5%+'TABELA COM REAJUSTE_JAN 2025'!F54 -> 5498.5062
E55: =E54+1 -> 11 | F55: ='TABELA COM REAJUSTE_JAN 2025'!E55*7.5%+'TABELA COM REAJUSTE_JAN 2025'!E55 -> 5828.4166 | G55: ='TABELA COM REAJUSTE_JAN 2025'!F55*7.5%+'TABELA COM REAJUSTE_JAN 2025'!F55 -> 5828.4166
E56: =E55+1 -> 12 | F56: ='TABELA COM REAJUSTE_JAN 2025'!E56*7.5%+'TABELA COM REAJUSTE_JAN 2025'!E56 -> 6178.1216 | G56: ='TABELA COM REAJUSTE_JAN 2025'!F56*7.5%+'TABELA COM REAJUSTE_JAN 2025'!F56 -> 6178.1216
E57: =E56+1 -> 13 | F57: ='TABELA COM REAJUSTE_JAN 2025'!E57*7.5%+'TABELA COM REAJUSTE_JAN 2025'!E57 -> 6548.8089 | G57: ='TABELA COM REAJUSTE_JAN 2025'!F57*7.5%+'TABELA COM REAJUSTE_JAN 2025'!F57 -> 6548.8089
... E64: =E63+1 -> 20 | F64: ='TABELA COM REAJUSTE_JAN 2025'!E64*7.5%+'TABELA COM REAJUSTE_JAN 2025'!E64 -> 9846.9872 | G64: ='TABELA COM REAJUSTE_JAN 2025'!F64*7.5%+'TABELA COM REAJUSTE_JAN 2025'!F64 -> 9846.9872

Sheet TABELA COM REAJUSTE_JAN 2025
A1: LEI Nº. 9.596 DE 15 DE JANEIRO DE 2025 Anexo II – Fls. 01/02
A8: TABELA DE VENCIMENTOS DO QUADRO DE SERVIDORES EFETIVOS DO TCE/SE
A9: PARTE PERMANENTE
A10: Grupo Ocupacional | B10: Controle Externo | G10: Apoio Técnico e Administrativo
A11: Referências | B11: Auditor de Controle Externo I - Área de Auditoria Governament al | C11: Auditor de Controle Externo I - Área de Engenharia | D11: Auditor de Controle Externo II - Área de Auditoria Governamental | E11: Auditor de Controle Externo II - Área de Engenharia | F11: Auditor de Tecnologia da Informação | G11: Técnico Administrativo | H11: Enfermeiro | I11: Analista de Tecnologiada Informação | J11: Cirurgião- Dentista | K11: Médico
A12: 1 | B12: ='TABELA COM REAJUSTE_2024'!B12+'TABELA COM REAJUSTE_2024'!B12*6% -> 5607.2022 | C12: ='TABELA COM REAJUSTE_2024'!C12+'TABELA COM REAJUSTE_2024'!C12*6% -> 5607.2022 | D12: ='TABELA COM REAJUSTE_2024'!D12+'TABELA COM REAJUSTE_2024'!D12*6% -> 6728.6561 | E12: ='TABELA COM REAJUSTE_2024'!E12+'TABELA COM REAJUSTE_2024'!E12*6% -> 6728.6561 | F12: ='TABELA COM REAJUSTE_2024'!F12+'TABELA COM REAJUSTE_2024'!F12*6% -> 6728.6561 | G12: ='TABELA COM REAJUSTE_2024'!G12+'TABELA COM REAJUSTE_2024'!G12*6% -> 3633.0145 | H12: ='TABELA COM REAJUSTE_2024'!H12+'TABELA COM REAJUSTE_2024'!H12*6% -> 5607.2022 | I12: ='TABELA COM REAJUSTE_2024'!I12+'TABELA COM REAJUSTE_2024'!I12*6% -> 6728.6561 | ... K12: ='TABELA COM REAJUSTE_2024'!K12+'TABELA COM REAJUSTE_2024'!K12*6% -> 6728.6561
A13: 2 | B13: ='TABELA COM REAJUSTE_2024'!B13+'TABELA COM REAJUSTE_2024'!B13*6% -> 5943.6305 | C13: ='TABELA COM REAJUSTE_2024'!C13+'TABELA COM REAJUSTE_2024'!C13*6% -> 5943.6305 | D13: ='TABELA COM REAJUSTE_2024'!D13+'TABELA COM REAJUSTE_2024'!D13*6% -> 7132.3755 | E13: ='TABELA COM REAJUSTE_2024'!E13+'TABELA COM REAJUSTE_2024'!E13*6% -> 7132.3755 | F13: ='TABELA COM REAJUSTE_2024'!F13+'TABELA COM REAJUSTE_2024'!F13*6% -> 7132.3755 | G13: ='TABELA COM REAJUSTE_2024'!G13+'TABELA COM REAJUSTE_2024'!G13*6% -> 3850.9954 | H13: ='TABELA COM REAJUSTE_2024'!H13+'TABELA COM REAJUSTE_2024'!H13*6% -> 5943.6343 | I13: ='TABELA COM REAJUSTE_2024'!I13+'TABELA COM REAJUSTE_2024'!I13*6% -> 7132.3755 | ... K13: ='TABELA COM REAJUSTE_2024'!K13+'TABELA COM REAJUSTE_2024'!K13*6% -> 7132.3755
A14: 3 | B14: ='TABELA COM REAJUSTE_2024'!B14+'TABELA COM REAJUSTE_2024'!B14*6% -> 6300.2499 | C14: ='TABELA COM REAJUSTE_2024'!C14+'TABELA COM REAJUSTE_2024'!C14*6% -> 6300.2499 | D14: ='TABELA COM REAJUSTE_2024'!D14+'TABELA COM REAJUSTE_2024'!D14*6% -> 7560.318 | E14: ='TABELA COM REAJUSTE_2024'!E14+'TABELA COM REAJUSTE_2024'!E14*6% -> 7560.318 | F14: ='TABELA COM REAJUSTE_2024'!F14+'TABELA COM REAJUSTE_2024'!F14*6% -> 7560.318 | G14: ='TABELA COM REAJUSTE_2024'!G14+'TABELA COM REAJUSTE_2024'!G14*6% -> 4082.0551 | H14: ='TABELA COM REAJUSTE_2024'!H14+'TABELA COM REAJUSTE_2024'!H14*6% -> 6300.2524 | I14: ='TABELA COM REAJUSTE_2024'!I14+'TABELA COM REAJUSTE_2024'!I14*6% -> 7560.318 | ... K14: ='TABELA COM REAJUSTE_2024'!K14+'TABELA COM REAJUSTE_2024'!K14*6% -> 7560.318
A15: 4 | B15: ='TABELA COM REAJUSTE_2024'!B15+'TABELA COM REAJUSTE_2024'!B15*6% -> 6678.2627 | C15: ='TABELA COM REAJUSTE_2024'!C15+'TABELA COM REAJUSTE_2024'!C15*6% -> 6678.2627 | D15: ='TABELA COM REAJUSTE_2024'!D15+'TABELA COM REAJUSTE_2024'!D15*6% -> 8013.9371 | E15: ='TABELA COM REAJUSTE_2024'!E15+'TABELA COM REAJUSTE_2024'!E15*6% -> 8013.9371 | F15: ='TABELA COM REAJUSTE_2024'!F15+'TABELA COM REAJUSTE_2024'!F15*6% -> 8013.9371 | G15: ='TABELA COM REAJUSTE_2024'!G15+'TABELA COM REAJUSTE_2024'!G15*6% -> 4326.9784 | H15: ='TABELA COM REAJUSTE_2024'!H15+'TABELA COM REAJUSTE_2024'!H15*6% -> 6678.2675 | I15: ='TABELA COM REAJUSTE_2024'!I15+'TABELA COM REAJUSTE_2024'!I15*6% -> 8013.9371 | ... K15: ='TABELA COM REAJUSTE_2024'!K15+'TABELA COM REAJUSTE_2024'!K15*6% -> 8013.9371
A16: 5 | B16: ='TABELA COM REAJUSTE_2024'!B16+'TABELA COM REAJUSTE_2024'!B16*6% -> 7078.9609 | C16: ='TABELA COM REAJUSTE_2024'!C16+'TABELA COM REAJUSTE_2024'!C16*6% -> 7078.9609 | D16: ='TABELA COM REAJUSTE_2024'!D16+'TABELA COM REAJUSTE_2024'!D16*6% -> 8494.7733 | E16: ='TABELA COM REAJUSTE_2024'!E16+'TABELA COM REAJUSTE_2024'!E16*6% -> 8494.7733 | F16: ='TABELA COM REAJUSTE_2024'!F16+'TABELA COM REAJUSTE_2024'!F16*6% -> 8494.7733 | G16: ='TABELA COM REAJUSTE_2024'!G16+'TABELA COM REAJUSTE_2024'!G16*6% -> 4586.5971 | H16: ='TABELA COM REAJUSTE_2024'!H16+'TABELA COM REAJUSTE_2024'!H16*6% -> 7078.9636 | I16: ='TABELA COM REAJUSTE_2024'!I16+'TABELA COM REAJUSTE_2024'!I16*6% -> 8494.7733 | ... K16: ='TABELA COM REAJUSTE_2024'!K16+'TABELA COM REAJUSTE_2024'!K16*6% -> 8494.7733
A17: 6 | B17: ='TABELA COM REAJUSTE_2024'!B17+'TABELA COM REAJUSTE_2024'!B17*6% -> 7503.7042 | C17: ='TABELA COM REAJUSTE_2024'!C17+'TABELA COM REAJUSTE_2024'!C17*6% -> 7503.7042 | D17: ='TABELA COM REAJUSTE_2024'!D17+'TABELA COM REAJUSTE_2024'!D17*6% -> 9004.4597 | E17: ='TABELA COM REAJUSTE_2024'!E17+'TABELA COM REAJUSTE_2024'!E17*6% -> 9004.4597 | F17: ='TABELA COM REAJUSTE_2024'!F17+'TABELA COM REAJUSTE_2024'!F17*6% -> 9004.4597 | G17: ='TABELA COM REAJUSTE_2024'!G17+'TABELA COM REAJUSTE_2024'!G17*6% -> 4861.793 | H17: ='TABELA COM REAJUSTE_2024'!H17+'TABELA COM REAJUSTE_2024'!H17*6% -> 7503.7014 | I17: ='TABELA COM REAJUSTE_2024'!I17+'TABELA COM REAJUSTE_2024'!I17*6% -> 9004.4597 | ... K17: ='TABELA COM REAJUSTE_2024'!K17+'TABELA COM REAJUSTE_2024'!K17*6% -> 9004.4597
A18: 7 | B18: ='TABELA COM REAJUSTE_2024'!B18+'TABELA COM REAJUSTE_2024'!B18*6% -> 7953.9195 | C18: ='TABELA COM REAJUSTE_2024'!C18+'TABELA COM REAJUSTE_2024'!C18*6% -> 7953.9195 | D18: ='TABELA COM REAJUSTE_2024'!D18+'TABELA COM REAJUSTE_2024'!D18*6% -> 9544.7273 | E18: ='TABELA COM REAJUSTE_2024'!E18+'TABELA COM REAJUSTE_2024'!E18*6% -> 9544.7273 | F18: ='TABELA COM REAJUSTE_2024'!F18+'TABELA COM REAJUSTE_2024'!F18*6% -> 9544.7273 | G18: ='TABELA COM REAJUSTE_2024'!G18+'TABELA COM REAJUSTE_2024'!G18*6% -> 5153.5005 | H18: ='TABELA COM REAJUSTE_2024'!H18+'TABELA COM REAJUSTE_2024'!H18*6% -> 7953.9235 | I18: ='TABELA COM REAJUSTE_2024'!I18+'TABELA COM REAJUSTE_2024'!I18*6% -> 9544.7273 | ... K18: ='TABELA COM REAJUSTE_2024'!K18+'TABELA COM REAJUSTE_2024'!K18*6% -> 9544.7273
A19: 8 | B19: ='TABELA COM REAJUSTE_2024'!B19+'TABELA COM REAJUSTE_2024'!B19*6% -> 8431.1573 | C19: ='TABELA COM REAJUSTE_2024'!C19+'TABELA COM REAJUSTE_2024'!C19*6% -> 8431.1573 | D19: ='TABELA COM REAJUSTE_2024'!D19+'TABELA COM REAJUSTE_2024'!D19*6% -> 10117.411 | E19: ='TABELA COM REAJUSTE_2024'!E19+'TABELA COM REAJUSTE_2024'!E19*6% -> 10117.411 | F19: ='TABELA COM REAJUSTE_2024'!F19+'TABELA COM REAJUSTE_2024'!F19*6% -> 10117.411 | G19: ='TABELA COM REAJUSTE_2024'!G19+'TABELA COM REAJUSTE_2024'!G19*6% -> 5462.7106 | H19: ='TABELA COM REAJUSTE_2024'!H19+'TABELA COM REAJUSTE_2024'!H19*6% -> 8431.1589 | I19: ='TABELA COM REAJUSTE_2024'!I19+'TABELA COM REAJUSTE_2024'!I19*6% -> 10117.411 | ... K19: ='TABELA COM REAJUSTE_2024'!K19+'TABELA COM REAJUSTE_2024'!K19*6% -> 10117.411
A20: 9 | B20: ='TABELA COM REAJUSTE_2024'!B20+'TABELA COM REAJUSTE_2024'!B20*6% -> 8937.0245 | C20: ='TABELA COM REAJUSTE_2024'!C20+'TABELA COM REAJUSTE_2024'!C20*6% -> 8937.0245 | D20: ='TABELA COM REAJUSTE_2024'!D20+'TABELA COM REAJUSTE_2024'!D20*6% -> 10724.456 | E20: ='TABELA COM REAJUSTE_2024'!E20+'TABELA COM REAJUSTE_2024'!E20*6% -> 10724.456 | F20: ='TABELA COM REAJUSTE_2024'!F20+'TABELA COM REAJUSTE_2024'!F20*6% -> 10724.456 | G20: ='TABELA COM REAJUSTE_2024'!G20+'TABELA COM REAJUSTE_2024'!G20*6% -> 5790.4732 | H20: ='TABELA COM REAJUSTE_2024'!H20+'TABELA COM REAJUSTE_2024'!H20*6% -> 8937.0284 | I20: ='TABELA COM REAJUSTE_2024'!I20+'TABELA COM REAJUSTE_2024'!I20*6% -> 10724.456 | ... K20: ='TABELA COM REAJUSTE_2024'!K20+'TABELA COM REAJUSTE_2024'!K20*6% -> 10724.456
A21: 10 | B21: ='TABELA COM REAJUSTE_2024'!B21+'TABELA COM REAJUSTE_2024'!B21*6% -> 9473.2514 | C21: ='TABELA COM REAJUSTE_2024'!C21+'TABELA COM REAJUSTE_2024'!C21*6% -> 9473.2514 | D21: ='TABELA COM REAJUSTE_2024'!D21+'TABELA COM REAJUSTE_2024'!D21*6% -> 11367.923 | E21: ='TABELA COM REAJUSTE_2024'!E21+'TABELA COM REAJUSTE_2024'!E21*6% -> 11367.923 | F21: ='TABELA COM REAJUSTE_2024'!F21+'TABELA COM REAJUSTE_2024'!F21*6% -> 11367.923 | G21: ='TABELA COM REAJUSTE_2024'!G21+'TABELA COM REAJUSTE_2024'!G21*6% -> 6137.9016 | H21: ='TABELA COM REAJUSTE_2024'!H21+'TABELA COM REAJUSTE_2024'!H21*6% -> 9473.2501 | I21: ='TABELA COM REAJUSTE_2024'!I21+'TABELA COM REAJUSTE_2024'!I21*6% -> 11367.923 | ... K21: ='TABELA COM REAJUSTE_2024'!K21+'TABELA COM REAJUSTE_2024'!K21*6% -> 11367.923
A22: 11 | B22: ='TABELA COM REAJUSTE_2024'!B22+'TABELA COM REAJUSTE_2024'!B22*6% -> 10041.647 | C22: ='TABELA COM REAJUSTE_2024'!C22+'TABELA COM REAJUSTE_2024'!C22*6% -> 10041.647 | D22: ='TABELA COM REAJUSTE_2024'!D22+'TABELA COM REAJUSTE_2024'!D22*6% -> 12049.998 | E22: ='TABELA COM REAJUSTE_2024'!E22+'TABELA COM REAJUSTE_2024'!E22*6% -> 12049.998 | F22: ='TABELA COM REAJUSTE_2024'!F22+'TABELA COM REAJUSTE_2024'!F22*6% -> 12049.998 | G22: ='TABELA COM REAJUSTE_2024'!G22+'TABELA COM REAJUSTE_2024'!G22*6% -> 6506.1757 | H22: ='TABELA COM REAJUSTE_2024'!H22+'TABELA COM REAJUSTE_2024'!H22*6% -> 10041.645 | I22: ='TABELA COM REAJUSTE_2024'!I22+'TABELA COM REAJUSTE_2024'!I22*6% -> 12049.998 | ... K22: ='TABELA COM REAJUSTE_2024'!K22+'TABELA COM REAJUSTE_2024'!K22*6% -> 12049.998
A23: 12 | B23: ='TABELA COM REAJUSTE_2024'!B23+'TABELA COM REAJUSTE_2024'!B23*6% -> 10644.144 | C23: ='TABELA COM REAJUSTE_2024'!C23+'TABELA COM REAJUSTE_2024'!C23*6% -> 10644.144 | D23: ='TABELA COM REAJUSTE_2024'!D23+'TABELA COM REAJUSTE_2024'!D23*6% -> 12772.998 | E23: ='TABELA COM REAJUSTE_2024'!E23+'TABELA COM REAJUSTE_2024'!E23*6% -> 12772.998 | F23: ='TABELA COM REAJUSTE_2024'!F23+'TABELA COM REAJUSTE_2024'!F23*6% -> 12772.998 | G23: ='TABELA COM REAJUSTE_2024'!G23+'TABELA COM REAJUSTE_2024'!G23*6% -> 6896.5462 | H23: ='TABELA COM REAJUSTE_2024'!H23+'TABELA COM REAJUSTE_2024'!H23*6% -> 10644.144 | I23: ='TABELA COM REAJUSTE_2024'!I23+'TABELA COM REAJUSTE_2024'!I23*6% -> 12772.998 | ... K23: ='TABELA COM REAJUSTE_2024'!K23+'TABELA COM REAJUSTE_2024'!K23*6% -> 12772.998
... A31: 20 | B31: ='TABELA COM REAJUSTE_2024'!B31+'TABELA COM REAJUSTE_2024'!B31*6% -> 16965.147 | C31: ='TABELA COM REAJUSTE_2024'!C31+'TABELA COM REAJUSTE_2024'!C31*6% -> 16965.147 | D31: ='TABELA COM REAJUSTE_2024'!D31+'TABELA COM REAJUSTE_2024'!D31*6% -> 20358.219 | E31: ='TABELA COM REAJUSTE_2024'!E31+'TABELA COM REAJUSTE_2024'!E31*6% -> 20358.219 | F31: ='TABELA COM REAJUSTE_2024'!F31+'TABELA COM REAJUSTE_2024'!F31*6% -> 20358.219 | G31: ='TABELA COM REAJUSTE_2024'!G31+'TABELA COM REAJUSTE_2024'!G31*6% -> 10992.047 | H31: ='TABELA COM REAJUSTE_2024'!H31+'TABELA COM REAJUSTE_2024'!H31*6% -> 16965.148 | I31: ='TABELA COM REAJUSTE_2024'!I31+'TABELA COM REAJUSTE_2024'!I31*6% -> 20358.219 | ... K31: ='TABELA COM REAJUSTE_2024'!K31+'TABELA COM REAJUSTE_2024'!K31*6% -> 20358.219
A33: LEI Nº. 9.596 DE 15 DE JANEIRO DE 2025 ANEXO II – Fls 02/02
C42: TABELA DE VENCIMENTOS DO QUADRO DE SERVIDORES EFETIVOS DO TCE/SE
C43: PARTE SUPLEMENTAR
D44: Referências | E44: Motorista | F44: Agente de Portaria
D45: 1 | E45: ='TABELA COM REAJUSTE_2024'!E45+'TABELA COM REAJUSTE_2024'!E45*6% -> 3027.4953 | F45: ='TABELA COM REAJUSTE_2024'!F45+'TABELA COM REAJUSTE_2024'!F45*6% -> 3027.4953
D46: =D45+1 -> 2 | E46: ='TABELA COM REAJUSTE_2024'!E46+'TABELA COM REAJUSTE_2024'!E46*6% -> 3209.145 | F46: ='TABELA COM REAJUSTE_2024'!F46+'TABELA COM REAJUSTE_2024'!F46*6% -> 3209.145
D47: =D46+1 -> 3 | E47: ='TABELA COM REAJUSTE_2024'!E47+'TABELA COM REAJUSTE_2024'!E47*6% -> 3401.6937 | F47: ='TABELA COM REAJUSTE_2024'!F47+'TABELA COM REAJUSTE_2024'!F47*6% -> 3401.6937
D48: =D47+1 -> 4 | E48: ='TABELA COM REAJUSTE_2024'!E48+'TABELA COM REAJUSTE_2024'!E48*6% -> 3605.7953 | F48: ='TABELA COM REAJUSTE_2024'!F48+'TABELA COM REAJUSTE_2024'!F48*6% -> 3605.7953
D49: =D48+1 -> 5 | E49: ='TABELA COM REAJUSTE_2024'!E49+'TABELA COM REAJUSTE_2024'!E49*6% -> 3822.143 | F49: ='TABELA COM REAJUSTE_2024'!F49+'TABELA COM REAJUSTE_2024'!F49*6% -> 3822.143
D50: =D49+1 -> 6 | E50: ='TABELA COM REAJUSTE_2024'!E50+'TABELA COM REAJUSTE_2024'!E50*6% -> 4051.4716 | F50: ='TABELA COM REAJUSTE_2024'!F50+'TABELA COM REAJUSTE_2024'!F50*6% -> 4051.4716
D51: =D50+1 -> 7 | E51: ='TABELA COM REAJUSTE_2024'!E51+'TABELA COM REAJUSTE_2024'!E51*6% -> 4294.5599 | F51: ='TABELA COM REAJUSTE_2024'!F51+'TABELA COM REAJUSTE_2024'!F51*6% -> 4294.5599
D52: =D51+1 -> 8 | E52: ='TABELA COM REAJUSTE_2024'!E52+'TABELA COM REAJUSTE_2024'!E52*6% -> 4552.2335 | F52: ='TABELA COM REAJUSTE_2024'!F52+'TABELA COM REAJUSTE_2024'!F52*6% -> 4552.2335
D53: =D52+1 -> 9 | E53: ='TABELA COM REAJUSTE_2024'!E53+'TABELA COM REAJUSTE_2024'!E53*6% -> 4825.3675 | F53: ='TABELA COM REAJUSTE_2024'!F53+'TABELA COM REAJUSTE_2024'!F53*6% -> 4825.3675
D54: =D53+1 -> 10 | E54: ='TABELA COM REAJUSTE_2024'!E54+'TABELA COM REAJUSTE_2024'!E54*6% -> 5114.8895 | F54: ='TABELA COM REAJUSTE_2024'!F54+'TABELA COM REAJUSTE_2024'!F54*6% -> 5114.8895
D55: =D54+1 -> 11 | E55: ='TABELA COM REAJUSTE_2024'!E55+'TABELA COM REAJUSTE_2024'!E55*6% -> 5421.7829 | F55: ='TABELA COM REAJUSTE_2024'!F55+'TABELA COM REAJUSTE_2024'!F55*6% -> 5421.7829
D56: =D55+1 -> 12 | E56: ='TABELA COM REAJUSTE_2024'!E56+'TABELA COM REAJUSTE_2024'!E56*6% -> 5747.0899 | F56: ='TABELA COM REAJUSTE_2024'!F56+'TABELA COM REAJUSTE_2024'!F56*6% -> 5747.0899
D57: =D56+1 -> 13 | E57: ='TABELA COM REAJUSTE_2024'!E57+'TABELA COM REAJUSTE_2024'!E57*6% -> 6091.9153 | F57: ='TABELA COM REAJUSTE_2024'!F57+'TABELA COM REAJUSTE_2024'!F57*6% -> 6091.9153
... D64: =D63+1 -> 20 | E64: ='TABELA COM REAJUSTE_2024'!E64+'TABELA COM REAJUSTE_2024'!E64*6% -> 9159.9881 | F64: ='TABELA COM REAJUSTE_2024'!F64+'TABELA COM REAJUSTE_2024'!F64*6% -> 9159.9881

Sheet TABELA COM REAJUSTE_2024
A1: LEI Nº. 9.344 DE 26 DE DEZEMBRO DE 2023 Anexo II – Fls. 01/02
A8: TABELA DE VENCIMENTOS DO QUADRO DE SERVIDORES EFETIVOS DO TCE/SE
A9: PARTE PERMANENTE
A10: Grupo Ocupacional | B10: Controle Externo | G10: Apoio Técnico e Administrativo
A11: Referências | B11: Auditor de Controle Externo I - Área de Auditoria Governament al | C11: Auditor de Controle Externo I - Área de Engenharia | D11: Auditor de Controle Externo II - Área de Auditoria Governamental | E11: Auditor de Controle Externo II - Área de Engenharia | F11: Auditor de Tecnologia da Informação | G11: Técnico Administrativo | H11: Enfermeiro | I11: Analista de Tecnologiada Informação | J11: Cirurgião- Dentista | K11: Médico
A12: 1 | B12: ='[1]Table 1'!B6:C6*0.06+'[1]Table 1'!B6:C6 -> 5289.8134 | C12: ='[1]Table 1'!D6*0.06+'[1]Table 1'!D6 -> 5289.8134 | D12: ='[1]Table 1'!R6*0.06+'[1]Table 1'!R6 -> 6347.7888 | E12: ='[1]Table 1'!S6*0.06+'[1]Table 1'!S6 -> 6347.7888 | F12: ='[1]Table 1'!T6*0.06+'[1]Table 1'!T6 -> 6347.7888 | G12: ='[1]Table 1'!U6*0.06+'[1]Table 1'!U6 -> 3427.3722 | H12: ='[1]Table 1'!V6*0.06+'[1]Table 1'!V6 -> 5289.8134 | I12: ='[1]Table 1'!W6*0.06+'[1]Table 1'!W6 -> 6347.7888 | J12: ='[1]Table 1'!X6*0.06+'[1]Table 1'!X6 -> 6347.7888 | K12: ='[1]Table 1'!Y6*0.06+'[1]Table 1'!Y6 -> 6347.7888
A13: 2 | B13: ='[1]Table 1'!B7:C7*0.06+'[1]Table 1'!B7:C7 -> 5607.1986 | C13: ='[1]Table 1'!D7*0.06+'[1]Table 1'!D7 -> 5607.1986 | D13: ='[1]Table 1'!R7*0.06+'[1]Table 1'!R7 -> 6728.6561 | E13: ='[1]Table 1'!S7*0.06+'[1]Table 1'!S7 -> 6728.6561 | F13: ='[1]Table 1'!T7*0.06+'[1]Table 1'!T7 -> 6728.6561 | G13: ='[1]Table 1'!U7*0.06+'[1]Table 1'!U7 -> 3633.0145 | H13: ='[1]Table 1'!V7*0.06+'[1]Table 1'!V7 -> 5607.2022 | I13: ='[1]Table 1'!W7*0.06+'[1]Table 1'!W7 -> 6728.6561 | J13: ='[1]Table 1'!X7*0.06+'[1]Table 1'!X7 -> 6728.6561 | K13: ='[1]Table 1'!Y7*0.06+'[1]Table 1'!Y7 -> 6728.6561
A14: 3 | B14: ='[1]Table 1'!B8:C8*0.06+'[1]Table 1'!B8:C8 -> 5943.632 | C14: ='[1]Table 1'!D8*0.06+'[1]Table 1'!D8 -> 5943.632 | D14: ='[1]Table 1'!R8*0.06+'[1]Table 1'!R8 -> 7132.3755 | E14: ='[1]Table 1'!S8*0.06+'[1]Table 1'!S8 -> 7132.3755 | F14: ='[1]Table 1'!T8*0.06+'[1]Table 1'!T8 -> 7132.3755 | G14: ='[1]Table 1'!U8*0.06+'[1]Table 1'!U8 -> 3850.9954 | H14: ='[1]Table 1'!V8*0.06+'[1]Table 1'!V8 -> 5943.6343 | I14: ='[1]Table 1'!W8*0.06+'[1]Table 1'!W8 -> 7132.3755 | J14: ='[1]Table 1'!X8*0.06+'[1]Table 1'!X8 -> 7132.3755 | K14: ='[1]Table 1'!Y8*0.06+'[1]Table 1'!Y8 -> 7132.3755
A15: 4 | B15: ='[1]Table 1'!B9:C9*0.06+'[1]Table 1'!B9:C9 -> 6300.2478 | C15: ='[1]Table 1'!D9*0.06+'[1]Table 1'!D9 -> 6300.2478 | D15: ='[1]Table 1'!R9*0.06+'[1]Table 1'!R9 -> 7560.318 | E15: ='[1]Table 1'!S9*0.06+'[1]Table 1'!S9 -> 7560.318 | F15: ='[1]Table 1'!T9*0.06+'[1]Table 1'!T9 -> 7560.318 | G15: ='[1]Table 1'!U9*0.06+'[1]Table 1'!U9 -> 4082.0551 | H15: ='[1]Table 1'!V9*0.06+'[1]Table 1'!V9 -> 6300.2524 | I15: ='[1]Table 1'!W9*0.06+'[1]Table 1'!W9 -> 7560.318 | J15: ='[1]Table 1'!X9*0.06+'[1]Table 1'!X9 -> 7560.318 | K15: ='[1]Table 1'!Y9*0.06+'[1]Table 1'!Y9 -> 7560.318
A16: 5 | B16: ='[1]Table 1'!B10:C10*0.06+'[1]Table 1'!B10:C10 -> 6678.265 | C16: ='[1]Table 1'!D10*0.06+'[1]Table 1'!D10 -> 6678.265 | D16: ='[1]Table 1'!R10*0.06+'[1]Table 1'!R10 -> 8013.9371 | E16: ='[1]Table 1'!S10*0.06+'[1]Table 1'!S10 -> 8013.9371 | F16: ='[1]Table 1'!T10*0.06+'[1]Table 1'!T10 -> 8013.9371 | G16: ='[1]Table 1'!U10*0.06+'[1]Table 1'!U10 -> 4326.9784 | H16: ='[1]Table 1'!V10*0.06+'[1]Table 1'!V10 -> 6678.2675 | I16: ='[1]Table 1'!W10*0.06+'[1]Table 1'!W10 -> 8013.9371 | J16: ='[1]Table 1'!X10*0.06+'[1]Table 1'!X10 -> 8013.9371 | K16: ='[1]Table 1'!Y10*0.06+'[1]Table 1'!Y10 -> 8013.9371
A17: 6 | B17: ='[1]Table 1'!B11:C11*0.06+'[1]Table 1'!B11:C11 -> 7078.9662 | C17: ='[1]Table 1'!D11*0.06+'[1]Table 1'!D11 -> 7078.9662 | D17: ='[1]Table 1'!R11*0.06+'[1]Table 1'!R11 -> 8494.7733 | E17: ='[1]Table 1'!S11*0.06+'[1]Table 1'!S11 -> 8494.7733 | F17: ='[1]Table 1'!T11*0.06+'[1]Table 1'!T11 -> 8494.7733 | G17: ='[1]Table 1'!U11*0.06+'[1]Table 1'!U11 -> 4586.5971 | H17: ='[1]Table 1'!V11*0.06+'[1]Table 1'!V11 -> 7078.9636 | I17: ='[1]Table 1'!W11*0.06+'[1]Table 1'!W11 -> 8494.7733 | J17: ='[1]Table 1'!X11*0.06+'[1]Table 1'!X11 -> 8494.7733 | K17: ='[1]Table 1'!Y11*0.06+'[1]Table 1'!Y11 -> 8494.7733
A18: 7 | B18: ='[1]Table 1'!B12:C12*0.06+'[1]Table 1'!B12:C12 -> 7503.6976 | C18: ='[1]Table 1'!D12*0.06+'[1]Table 1'!D12 -> 7503.6976 | D18: ='[1]Table 1'!R12*0.06+'[1]Table 1'!R12 -> 9004.4597 | E18: ='[1]Table 1'!S12*0.06+'[1]Table 1'!S12 -> 9004.4597 | F18: ='[1]Table 1'!T12*0.06+'[1]Table 1'!T12 -> 9004.4597 | G18: ='[1]Table 1'!U12*0.06+'[1]Table 1'!U12 -> 4861.793 | H18: ='[1]Table 1'!V12*0.06+'[1]Table 1'!V12 -> 7503.7014 | I18: ='[1]Table 1'!W12*0.06+'[1]Table 1'!W12 -> 9004.4597 | J18: ='[1]Table 1'!X12*0.06+'[1]Table 1'!X12 -> 9004.4597 | K18: ='[1]Table 1'!Y12*0.06+'[1]Table 1'!Y12 -> 9004.4597
A19: 8 | B19: ='[1]Table 1'!B13:C13*0.06+'[1]Table 1'!B13:C13 -> 7953.922 | C19: ='[1]Table 1'!D13*0.06+'[1]Table 1'!D13 -> 7953.922 | D19: ='[1]Table 1'!R13*0.06+'[1]Table 1'!R13 -> 9544.7273 | E19: ='[1]Table 1'!S13*0.06+'[1]Table 1'!S13 -> 9544.7273 | F19: ='[1]Table 1'!T13*0.06+'[1]Table 1'!T13 -> 9544.7273 | G19: ='[1]Table 1'!U13*0.06+'[1]Table 1'!U13 -> 5153.5005 | H19: ='[1]Table 1'!V13*0.06+'[1]Table 1'!V13 -> 7953.9235 | I19: ='[1]Table 1'!W13*0.06+'[1]Table 1'!W13 -> 9544.7273 | J19: ='[1]Table 1'!X13*0.06+'[1]Table 1'!X13 -> 9544.7273 | K19: ='[1]Table 1'!Y13*0.06+'[1]Table 1'!Y13 -> 9544.7273
A20: 9 | B20: ='[1]Table 1'!B14:C14*0.06+'[1]Table 1'!B14:C14 -> 8431.1552 | C20: ='[1]Table 1'!D14*0.06+'[1]Table 1'!D14 -> 8431.1552 | D20: ='[1]Table 1'!R14*0.06+'[1]Table 1'!R14 -> 10117.411 | E20: ='[1]Table 1'!S14*0.06+'[1]Table 1'!S14 -> 10117.411 | F20: ='[1]Table 1'!T14*0.06+'[1]Table 1'!T14 -> 10117.411 | G20: ='[1]Table 1'!U14*0.06+'[1]Table 1'!U14 -> 5462.7106 | H20: ='[1]Table 1'!V14*0.06+'[1]Table 1'!V14 -> 8431.1589 | I20: ='[1]Table 1'!W14*0.06+'[1]Table 1'!W14 -> 10117.411 | J20: ='[1]Table 1'!X14*0.06+'[1]Table 1'!X14 -> 10117.411 | K20: ='[1]Table 1'!Y14*0.06+'[1]Table 1'!Y14 -> 10117.411
A21: 10 | B21: ='[1]Table 1'!B15:C15*0.06+'[1]Table 1'!B15:C15 -> 8937.0296 | C21: ='[1]Table 1'!D15*0.06+'[1]Table 1'!D15 -> 8937.0296 | D21: ='[1]Table 1'!R15*0.06+'[1]Table 1'!R15 -> 10724.456 | E21: ='[1]Table 1'!S15*0.06+'[1]Table 1'!S15 -> 10724.456 | F21: ='[1]Table 1'!T15*0.06+'[1]Table 1'!T15 -> 10724.456 | G21: ='[1]Table 1'!U15*0.06+'[1]Table 1'!U15 -> 5790.4732 | H21: ='[1]Table 1'!V15*0.06+'[1]Table 1'!V15 -> 8937.0284 | I21: ='[1]Table 1'!W15*0.06+'[1]Table 1'!W15 -> 10724.456 | J21: ='[1]Table 1'!X15*0.06+'[1]Table 1'!X15 -> 10724.456 | K21: ='[1]Table 1'!Y15*0.06+'[1]Table 1'!Y15 -> 10724.456
A22: 11 | B22: ='[1]Table 1'!B16:C16*0.06+'[1]Table 1'!B16:C16 -> 9473.2518 | C22: ='[1]Table 1'!D16*0.06+'[1]Table 1'!D16 -> 9473.2518 | D22: ='[1]Table 1'!R16*0.06+'[1]Table 1'!R16 -> 11367.923 | E22: ='[1]Table 1'!S16*0.06+'[1]Table 1'!S16 -> 11367.923 | F22: ='[1]Table 1'!T16*0.06+'[1]Table 1'!T16 -> 11367.923 | G22: ='[1]Table 1'!U16*0.06+'[1]Table 1'!U16 -> 6137.9016 | H22: ='[1]Table 1'!V16*0.06+'[1]Table 1'!V16 -> 9473.2501 | I22: ='[1]Table 1'!W16*0.06+'[1]Table 1'!W16 -> 11367.923 | J22: ='[1]Table 1'!X16*0.06+'[1]Table 1'!X16 -> 11367.923 | K22: ='[1]Table 1'!Y16*0.06+'[1]Table 1'!Y16 -> 11367.923
A23: 12 | B23: ='[1]Table 1'!B17:C17*0.06+'[1]Table 1'!B17:C17 -> 10041.645 | C23: ='[1]Table 1'!D17*0.06+'[1]Table 1'!D17 -> 10041.645 | D23: ='[1]Table 1'!R17*0.06+'[1]Table 1'!R17 -> 12049.998 | E23: ='[1]Table 1'!S17*0.06+'[1]Table 1'!S17 -> 12049.998 | F23: ='[1]Table 1'!T17*0.06+'[1]Table 1'!T17 -> 12049.998 | G23: ='[1]Table 1'!U17*0.06+'[1]Table 1'!U17 -> 6506.1757 | H23: ='[1]Table 1'!V17*0.06+'[1]Table 1'!V17 -> 10041.645 | I23: ='[1]Table 1'!W17*0.06+'[1]Table 1'!W17 -> 12049.998 | J23: ='[1]Table 1'!X17*0.06+'[1]Table 1'!X17 -> 12049.998 | K23: ='[1]Table 1'!Y17*0.06+'[1]Table 1'!Y17 -> 12049.998
... A31: 20 | B31: ='[1]Table 1'!B25:C25*0.06+'[1]Table 1'!B25:C25 -> 16004.855 | C31: ='[1]Table 1'!D25*0.06+'[1]Table 1'!D25 -> 16004.855 | D31: ='[1]Table 1'!R25*0.06+'[1]Table 1'!R25 -> 19205.867 | E31: ='[1]Table 1'!S25*0.06+'[1]Table 1'!S25 -> 19205.867 | F31: ='[1]Table 1'!T25*0.06+'[1]Table 1'!T25 -> 19205.867 | G31: ='[1]Table 1'!U25*0.06+'[1]Table 1'!U25 -> 10369.856 | H31: ='[1]Table 1'!V25*0.06+'[1]Table 1'!V25 -> 16004.857 | I31: ='[1]Table 1'!W25*0.06+'[1]Table 1'!W25 -> 19205.867 | J31: ='[1]Table 1'!X25*0.06+'[1]Table 1'!X25 -> 19205.867 | K31: ='[1]Table 1'!Y25*0.06+'[1]Table 1'!Y25 -> 19205.867
A33: LEI Nº. 9.344 DE 26 DE DEZEMBRO DE 2023 ANEXO II – Fls 02/02
C42: TABELA DE VENCIMENTOS DO QUADRO DE SERVIDORES EFETIVOS DO TCE/SE
D43: PARTE SUPLEMENTAR
D44: Referências | E44: Motorista | F44: Agente de Portaria
D45: 1 | E45: ='[1]Table 1'!P29*0.06+'[1]Table 1'!P29 -> 2856.1276 | F45: ='[1]Table 1'!Q29*0.06+'[1]Table 1'!Q29 -> 2856.1276
D46: =D45+1 -> 2 | E46: ='[1]Table 1'!P30*0.06+'[1]Table 1'!P30 -> 3027.4953 | F46: ='[1]Table 1'!Q30*0.06+'[1]Table 1'!Q30 -> 3027.4953
D47: =D46+1 -> 3 | E47: ='[1]Table 1'!P31*0.06+'[1]Table 1'!P31 -> 3209.145 | F47: ='[1]Table 1'!Q31*0.06+'[1]Table 1'!Q31 -> 3209.145
D48: =D47+1 -> 4 | E48: ='[1]Table 1'!P32*0.06+'[1]Table 1'!P32 -> 3401.6937 | F48: ='[1]Table 1'!Q32*0.06+'[1]Table 1'!Q32 -> 3401.6937
D49: =D48+1 -> 5 | E49: ='[1]Table 1'!P33*0.06+'[1]Table 1'!P33 -> 3605.7953 | F49: ='[1]Table 1'!Q33*0.06+'[1]Table 1'!Q33 -> 3605.7953
D50: =D49+1 -> 6 | E50: ='[1]Table 1'!P34*0.06+'[1]Table 1'!P34 -> 3822.143 | F50: ='[1]Table 1'!Q34*0.06+'[1]Table 1'!Q34 -> 3822.143
D51: =D50+1 -> 7 | E51: ='[1]Table 1'!P35*0.06+'[1]Table 1'!P35 -> 4051.4716 | F51: ='[1]Table 1'!Q35*0.06+'[1]Table 1'!Q35 -> 4051.4716
D52: =D51+1 -> 8 | E52: ='[1]Table 1'!P36*0.06+'[1]Table 1'!P36 -> 4294.5599 | F52: ='[1]Table 1'!Q36*0.06+'[1]Table 1'!Q36 -> 4294.5599
D53: =D52+1 -> 9 | E53: ='[1]Table 1'!P37*0.06+'[1]Table 1'!P37 -> 4552.2335 | F53: ='[1]Table 1'!Q37*0.06+'[1]Table 1'!Q37 -> 4552.2335
D54: =D53+1 -> 10 | E54: ='[1]Table 1'!P38*0.06+'[1]Table 1'!P38 -> 4825.3675 | F54: ='[1]Table 1'!Q38*0.06+'[1]Table 1'!Q38 -> 4825.3675
D55: =D54+1 -> 11 | E55: ='[1]Table 1'!P39*0.06+'[1]Table 1'!P39 -> 5114.8895 | F55: ='[1]Table 1'!Q39*0.06+'[1]Table 1'!Q39 -> 5114.8895
D56: =D55+1 -> 12 | E56: ='[1]Table 1'!P40*0.06+'[1]Table 1'!P40 -> 5421.7829 | F56: ='[1]Table 1'!Q40*0.06+'[1]Table 1'!Q40 -> 5421.7829
D57: =D56+1 -> 13 | E57: ='[1]Table 1'!P41*0.06+'[1]Table 1'!P41 -> 5747.0899 | F57: ='[1]Table 1'!Q41*0.06+'[1]Table 1'!Q41 -> 5747.0899
... D64: =D63+1 -> 20 | E64: ='[1]Table 1'!P48*0.06+'[1]Table 1'!P48 -> 8641.4982 | F64: ='[1]Table 1'!Q48*0.06+'[1]Table 1'!Q48 -> 8641.4982
